BEGIN:VCALENDAR
VERSION:2.0
PRODID:-//Terry Virgo - ECPv6.15.20//NONSGML v1.0//EN
CALSCALE:GREGORIAN
METHOD:PUBLISH
X-ORIGINAL-URL:https://www.terryvirgo.org
X-WR-CALDESC:Events for Terry Virgo
REFRESH-INTERVAL;VALUE=DURATION:PT1H
X-Robots-Tag:noindex
X-PUBLISHED-TTL:PT1H
BEGIN:VTIMEZONE
TZID:Europe/London
BEGIN:DAYLIGHT
TZOFFSETFROM:+0000
TZOFFSETTO:+0100
TZNAME:BST
DTSTART:20170326T010000
END:DAYLIGHT
BEGIN:STANDARD
TZOFFSETFROM:+0100
TZOFFSETTO:+0000
TZNAME:GMT
DTSTART:20171029T010000
END:STANDARD
BEGIN:DAYLIGHT
TZOFFSETFROM:+0000
TZOFFSETTO:+0100
TZNAME:BST
DTSTART:20180325T010000
END:DAYLIGHT
BEGIN:STANDARD
TZOFFSETFROM:+0100
TZOFFSETTO:+0000
TZNAME:GMT
DTSTART:20181028T010000
END:STANDARD
BEGIN:DAYLIGHT
TZOFFSETFROM:+0000
TZOFFSETTO:+0100
TZNAME:BST
DTSTART:20190331T010000
END:DAYLIGHT
BEGIN:STANDARD
TZOFFSETFROM:+0100
TZOFFSETTO:+0000
TZNAME:GMT
DTSTART:20191027T010000
END:STANDARD
END:VTIMEZONE
BEGIN:VEVENT
DTSTART;TZID=Europe/London:20181104T100000
DTEND;TZID=Europe/London:20181104T120000
DTSTAMP:20260422T165138
CREATED:20180727T084009Z
LAST-MODIFIED:20180727T084009Z
UID:3567-1541325600-1541332800@www.terryvirgo.org
SUMMARY:Kings Community Church Norwich
DESCRIPTION:
URL:https://www.terryvirgo.org/calendar/kings-community-church-norwich/
END:VEVENT
BEGIN:VEVENT
DTSTART;TZID=Europe/London:20181111T100000
DTEND;TZID=Europe/London:20181111T120000
DTSTAMP:20260422T165138
CREATED:20181102T113200Z
LAST-MODIFIED:20181102T113200Z
UID:3614-1541930400-1541937600@www.terryvirgo.org
SUMMARY:Hope Church - Sevenoaks
DESCRIPTION:
URL:https://www.terryvirgo.org/calendar/hope-church-sevenoaks-3/
LOCATION:Hope Church Sevenoaks\, Mill Lane\, Sevenoaks\, Kent\, TN14 5BX
END:VEVENT
BEGIN:VEVENT
DTSTART;TZID=Europe/London:20181118T100000
DTEND;TZID=Europe/London:20181118T120000
DTSTAMP:20260422T165139
CREATED:20180921T111415Z
LAST-MODIFIED:20180921T111415Z
UID:3594-1542535200-1542542400@www.terryvirgo.org
SUMMARY:Jubilee Church - Worthing
DESCRIPTION:Terry will be preaching at the 10am service.
URL:https://www.terryvirgo.org/calendar/jubilee-church-worthing-2/
LOCATION:Jubilee Church Worthing\, Worthing High School\, South Farm Road\, Worthing\, West Sussex\, BN14 7AR
END:VEVENT
BEGIN:VEVENT
DTSTART;VALUE=DATE:20181122
DTEND;VALUE=DATE:20181123
DTSTAMP:20260422T165139
CREATED:20180824T092713Z
LAST-MODIFIED:20180824T092713Z
UID:3579-1542844800-1542931199@www.terryvirgo.org
SUMMARY:Leaders event in Southampton
DESCRIPTION:
URL:https://www.terryvirgo.org/calendar/leaders-event-in-southampton/
END:VEVENT
BEGIN:VEVENT
DTSTART;VALUE=DATE:20181123
DTEND;VALUE=DATE:20181126
DTSTAMP:20260422T165139
CREATED:20180724T114406Z
LAST-MODIFIED:20180724T114406Z
UID:3564-1542931200-1543190399@www.terryvirgo.org
SUMMARY:Cornerstone City Church
DESCRIPTION:
URL:https://www.terryvirgo.org/calendar/cornerstone-city-church/
END:VEVENT
BEGIN:VEVENT
DTSTART;VALUE=DATE:20181128
DTEND;VALUE=DATE:20181130
DTSTAMP:20260422T165139
CREATED:20180824T092746Z
LAST-MODIFIED:20180824T093039Z
UID:3580-1543363200-1543535999@www.terryvirgo.org
SUMMARY:Newfrontiers Leaders Event
DESCRIPTION:
URL:https://www.terryvirgo.org/calendar/newfrontiers-leaders-event/
END:VEVENT
END:VCALENDAR