BEGIN:VCALENDAR
VERSION:2.0
PRODID:-//Terry Virgo - ECPv6.15.20//NONSGML v1.0//EN
CALSCALE:GREGORIAN
METHOD:PUBLISH
X-WR-CALNAME:Terry Virgo
X-ORIGINAL-URL:https://www.terryvirgo.org
X-WR-CALDESC:Events for Terry Virgo
REFRESH-INTERVAL;VALUE=DURATION:PT1H
X-Robots-Tag:noindex
X-PUBLISHED-TTL:PT1H
BEGIN:VTIMEZONE
TZID:Europe/London
BEGIN:DAYLIGHT
TZOFFSETFROM:+0000
TZOFFSETTO:+0100
TZNAME:BST
DTSTART:20150329T010000
END:DAYLIGHT
BEGIN:STANDARD
TZOFFSETFROM:+0100
TZOFFSETTO:+0000
TZNAME:GMT
DTSTART:20151025T010000
END:STANDARD
BEGIN:DAYLIGHT
TZOFFSETFROM:+0000
TZOFFSETTO:+0100
TZNAME:BST
DTSTART:20160327T010000
END:DAYLIGHT
BEGIN:STANDARD
TZOFFSETFROM:+0100
TZOFFSETTO:+0000
TZNAME:GMT
DTSTART:20161030T010000
END:STANDARD
BEGIN:DAYLIGHT
TZOFFSETFROM:+0000
TZOFFSETTO:+0100
TZNAME:BST
DTSTART:20170326T010000
END:DAYLIGHT
BEGIN:STANDARD
TZOFFSETFROM:+0100
TZOFFSETTO:+0000
TZNAME:GMT
DTSTART:20171029T010000
END:STANDARD
BEGIN:DAYLIGHT
TZOFFSETFROM:+0000
TZOFFSETTO:+0100
TZNAME:BST
DTSTART:20180325T010000
END:DAYLIGHT
BEGIN:STANDARD
TZOFFSETFROM:+0100
TZOFFSETTO:+0000
TZNAME:GMT
DTSTART:20181028T010000
END:STANDARD
END:VTIMEZONE
BEGIN:VEVENT
DTSTART;VALUE=DATE:20170901
DTEND;VALUE=DATE:20170904
DTSTAMP:20260423T085056
CREATED:20170516T103338Z
LAST-MODIFIED:20170516T103338Z
UID:3371-1504224000-1504483199@www.terryvirgo.org
SUMMARY:Plymouth
DESCRIPTION:
URL:https://www.terryvirgo.org/calendar/plymouth/
END:VEVENT
BEGIN:VEVENT
DTSTART;VALUE=DATE:20170824
DTEND;VALUE=DATE:20170829
DTSTAMP:20260423T085056
CREATED:20170516T103028Z
LAST-MODIFIED:20170516T103028Z
UID:3368-1503532800-1503964799@www.terryvirgo.org
SUMMARY:Westpoint Commission Bible Weekend
DESCRIPTION:
URL:https://www.terryvirgo.org/calendar/westpoint-commission-bible-weekend/
LOCATION:Westpoint Commission Bible Weekend
END:VEVENT
BEGIN:VEVENT
DTSTART;VALUE=DATE:20170802
DTEND;VALUE=DATE:20170805
DTSTAMP:20260423T085056
CREATED:20170516T102745Z
LAST-MODIFIED:20170530T102111Z
UID:3365-1501632000-1501891199@www.terryvirgo.org
SUMMARY:Newday
DESCRIPTION:
URL:https://www.terryvirgo.org/calendar/preaching-at-newday/
LOCATION:Newday\, Norfolk Showground\, Near Norwich
END:VEVENT
BEGIN:VEVENT
DTSTART;TZID=Europe/London:20170724T080000
DTEND;TZID=Europe/London:20170728T170000
DTSTAMP:20260423T085056
CREATED:20170609T124337Z
LAST-MODIFIED:20170609T124337Z
UID:3401-1500883200-1501261200@www.terryvirgo.org
SUMMARY:USA Trip - St Louis
DESCRIPTION:
URL:https://www.terryvirgo.org/calendar/usa-trip-st-louis/
END:VEVENT
BEGIN:VEVENT
DTSTART;TZID=Europe/London:20170721T080000
DTEND;TZID=Europe/London:20170723T170000
DTSTAMP:20260423T085056
CREATED:20170609T124256Z
LAST-MODIFIED:20170609T124256Z
UID:3400-1500624000-1500829200@www.terryvirgo.org
SUMMARY:USA Trip - Boston
DESCRIPTION:
URL:https://www.terryvirgo.org/calendar/usa-trip-boston/
END:VEVENT
BEGIN:VEVENT
DTSTART;TZID=Europe/London:20170713T080000
DTEND;TZID=Europe/London:20170720T170000
DTSTAMP:20260423T085056
CREATED:20170609T124211Z
LAST-MODIFIED:20170609T124211Z
UID:3399-1499932800-1500570000@www.terryvirgo.org
SUMMARY:USA Trip - Chicago O'Hare
DESCRIPTION:
URL:https://www.terryvirgo.org/calendar/usa-trip-chicago-ohare/
END:VEVENT
BEGIN:VEVENT
DTSTART;VALUE=DATE:20170706
DTEND;VALUE=DATE:20170713
DTSTAMP:20260423T085056
CREATED:20170516T102352Z
LAST-MODIFIED:20170609T123410Z
UID:3364-1499299200-1499903999@www.terryvirgo.org
SUMMARY:USA Trip - Washington
DESCRIPTION:
URL:https://www.terryvirgo.org/calendar/usa-trip/
END:VEVENT
BEGIN:VEVENT
DTSTART;VALUE=DATE:20170705
DTEND;VALUE=DATE:20170706
DTSTAMP:20260423T085056
CREATED:20170516T102135Z
LAST-MODIFIED:20170516T102135Z
UID:3362-1499212800-1499299199@www.terryvirgo.org
SUMMARY:Prayer Day at Westminster Chapel
DESCRIPTION:
URL:https://www.terryvirgo.org/calendar/prayer-day-westminster-chapel/
LOCATION:Westminster Chapel
END:VEVENT
BEGIN:VEVENT
DTSTART;TZID=Europe/London:20170702T100000
DTEND;TZID=Europe/London:20170702T120000
DTSTAMP:20260423T085056
CREATED:20170516T101832Z
LAST-MODIFIED:20170516T101832Z
UID:3359-1498989600-1498996800@www.terryvirgo.org
SUMMARY:Kings Church Uckfield
DESCRIPTION:
URL:https://www.terryvirgo.org/calendar/kings-church-uckfield/
LOCATION:Kings Church Uckfield\, Civic Centre\, Bellfarm Lane\,\, Uckfield\, East Sussex\, TN22 1AE
END:VEVENT
BEGIN:VEVENT
DTSTART;VALUE=DATE:20170622
DTEND;VALUE=DATE:20170626
DTSTAMP:20260423T085056
CREATED:20170516T101124Z
LAST-MODIFIED:20170516T101124Z
UID:3358-1498089600-1498435199@www.terryvirgo.org
SUMMARY:The Hague - Netherlands
DESCRIPTION:
URL:https://www.terryvirgo.org/calendar/the-hague-netherlands/
END:VEVENT
BEGIN:VEVENT
DTSTART;TZID=Europe/London:20170618T100000
DTEND;TZID=Europe/London:20170618T120000
DTSTAMP:20260423T085056
CREATED:20170516T100912Z
LAST-MODIFIED:20170516T100912Z
UID:3355-1497780000-1497787200@www.terryvirgo.org
SUMMARY:Jubilee Church\, Worthing
DESCRIPTION:
URL:https://www.terryvirgo.org/calendar/jubilee-church-worthing/
LOCATION:Jubilee Church Worthing\, Worthing High School\, South Farm Road\, Worthing\, West Sussex\, BN14 7AR
END:VEVENT
BEGIN:VEVENT
DTSTART;VALUE=DATE:20170616
DTEND;VALUE=DATE:20170618
DTSTAMP:20260423T085056
CREATED:20170516T100249Z
LAST-MODIFIED:20170516T100249Z
UID:3354-1497571200-1497743999@www.terryvirgo.org
SUMMARY:Worship Conference - Church of Christ the King - Brighton
DESCRIPTION:
URL:https://www.terryvirgo.org/calendar/worship-conference-church-christ-king-brighton/
END:VEVENT
BEGIN:VEVENT
DTSTART;TZID=Europe/London:20170611T103000
DTEND;TZID=Europe/London:20170611T123000
DTSTAMP:20260423T085056
CREATED:20170516T093009Z
LAST-MODIFIED:20170516T093009Z
UID:3351-1497177000-1497184200@www.terryvirgo.org
SUMMARY:New Life Church - Biggin Hill
DESCRIPTION:
URL:https://www.terryvirgo.org/calendar/new-life-church-biggin-hill/
LOCATION:New Life Church\, Main Road\, Biggin Hill\, Kent\, TN16 3BB
END:VEVENT
BEGIN:VEVENT
DTSTART;VALUE=DATE:20170610
DTEND;VALUE=DATE:20170611
DTSTAMP:20260423T085056
CREATED:20170516T092509Z
LAST-MODIFIED:20170516T092509Z
UID:3348-1497052800-1497139199@www.terryvirgo.org
SUMMARY:Teaching at New Ground London Academy Training Day
DESCRIPTION:
URL:https://www.terryvirgo.org/calendar/teaching-new-ground-london-academy-training-day/
LOCATION:Wimbledon
END:VEVENT
BEGIN:VEVENT
DTSTART;TZID=Europe/London:20170528T103000
DTEND;TZID=Europe/London:20170528T120000
DTSTAMP:20260423T085056
CREATED:20170516T075747Z
LAST-MODIFIED:20170516T075747Z
UID:3345-1495967400-1495972800@www.terryvirgo.org
SUMMARY:City Church Sheffield
DESCRIPTION:
URL:https://www.terryvirgo.org/calendar/city-church-sheffield/
LOCATION:City Church Sheffield\, Jubilee Centre\, Wilson Road\,\, Sheffield\, S11 8RN
END:VEVENT
BEGIN:VEVENT
DTSTART;TZID=Europe/London:20170521T090000
DTEND;TZID=Europe/London:20170521T130000
DTSTAMP:20260423T085056
CREATED:20170516T074812Z
LAST-MODIFIED:20170516T074812Z
UID:3341-1495357200-1495371600@www.terryvirgo.org
SUMMARY:Preaching at The Coign Church\, Woking at 9am and 11am
DESCRIPTION:
URL:https://www.terryvirgo.org/calendar/preaching-coign-church-woking-9am-11am/
LOCATION:The Coign Church\, HG Wells Centre\, Church Street East\,\, Woking\, GU21 6HJ
END:VEVENT
BEGIN:VEVENT
DTSTART;VALUE=DATE:20170511
DTEND;VALUE=DATE:20170520
DTSTAMP:20260423T085056
CREATED:20170516T074125Z
LAST-MODIFIED:20170516T074250Z
UID:3340-1494460800-1495238399@www.terryvirgo.org
SUMMARY:Turkey
DESCRIPTION:
URL:https://www.terryvirgo.org/calendar/turkey/
END:VEVENT
BEGIN:VEVENT
DTSTART;TZID=Europe/London:20170430T100000
DTEND;TZID=Europe/London:20170430T120000
DTSTAMP:20260423T085056
CREATED:20170411T160106Z
LAST-MODIFIED:20170411T160106Z
UID:3325-1493546400-1493553600@www.terryvirgo.org
SUMMARY:Bridge End Church - Newbury
DESCRIPTION:
URL:https://www.terryvirgo.org/calendar/bridge-end-church-newbury/
LOCATION:Bridge End Church – Newbury\, Trinity School\, Love Lane\, Shaw\, Newbury\, Berkshire\, RG14 2DU
END:VEVENT
BEGIN:VEVENT
DTSTART;TZID=Europe/London:20170423T103000
DTEND;TZID=Europe/London:20170423T120000
DTSTAMP:20260423T085056
CREATED:20170411T160729Z
LAST-MODIFIED:20170411T160729Z
UID:3329-1492943400-1492948800@www.terryvirgo.org
SUMMARY:New Life Church - Milton Keynes
DESCRIPTION:
URL:https://www.terryvirgo.org/calendar/new-life-church-milton-keynes-2/
LOCATION:New Life Church – Milton Keynes\, The Ridgeway Centre\, Featherstone Road\, Wolverton Mill South\, \, Milton Keynes\, MK12 5TH
END:VEVENT
BEGIN:VEVENT
DTSTART;VALUE=DATE:20170322
DTEND;VALUE=DATE:20170414
DTSTAMP:20260423T085056
CREATED:20170307T161258Z
LAST-MODIFIED:20170307T161258Z
UID:3314-1490140800-1492127999@www.terryvirgo.org
SUMMARY:South Africa
DESCRIPTION:
URL:https://www.terryvirgo.org/calendar/south-africa/
END:VEVENT
BEGIN:VEVENT
DTSTART;TZID=Europe/London:20170319T100000
DTEND;TZID=Europe/London:20170319T120000
DTSTAMP:20260423T085056
CREATED:20170307T160349Z
LAST-MODIFIED:20170307T160349Z
UID:3313-1489917600-1489924800@www.terryvirgo.org
SUMMARY:Life Church Southampton
DESCRIPTION:
URL:https://www.terryvirgo.org/calendar/life-church-southampton/
LOCATION:Life Church Southampton\, Richard Taunton Sixth Form College\, Hill Lane\, Southampton\, SO15 5RL
END:VEVENT
BEGIN:VEVENT
DTSTART;TZID=Europe/London:20170312T093000
DTEND;TZID=Europe/London:20170312T130000
DTSTAMP:20260423T085056
CREATED:20170303T134919Z
LAST-MODIFIED:20170303T134919Z
UID:3312-1489311000-1489323600@www.terryvirgo.org
SUMMARY:The Kings's Church Mid-Sussex
DESCRIPTION:Preaching at 9.30am and 11.30am.
URL:https://www.terryvirgo.org/calendar/kingss-church-mid-sussex/
LOCATION:The King’s Church Mid-Sussex\, The King’s Centre\, 33-35 Victoria Road\, Burgess Hill\, RH15 9LR\, United Kingdom
END:VEVENT
BEGIN:VEVENT
DTSTART;TZID=Europe/London:20170122T100000
DTEND;TZID=Europe/London:20170122T120000
DTSTAMP:20260423T085056
CREATED:20161122T144031Z
LAST-MODIFIED:20161122T144031Z
UID:3291-1485079200-1485086400@www.terryvirgo.org
SUMMARY:King's Church Lewes
DESCRIPTION:
URL:https://www.terryvirgo.org/calendar/kings-church-lewes/
LOCATION:King’s Church Lewes\, Brooks Road\, Lewes\, East Sussex\, BN7 2BY
END:VEVENT
BEGIN:VEVENT
DTSTART;TZID=Europe/London:20170115T100000
DTEND;TZID=Europe/London:20170115T120000
DTSTAMP:20260423T085056
CREATED:20170113T111229Z
LAST-MODIFIED:20170113T111229Z
UID:3308-1484474400-1484481600@www.terryvirgo.org
SUMMARY:Crawley Community Church
DESCRIPTION:
URL:https://www.terryvirgo.org/calendar/crawley-community-church/
LOCATION:Crawley Community Church\, The Charis Centre\, West Green Drive\, Crawley\, RH11 7EL\, United Kingdom
END:VEVENT
BEGIN:VEVENT
DTSTART;TZID=Europe/London:20170108T100000
DTEND;TZID=Europe/London:20170108T120000
DTSTAMP:20260423T085056
CREATED:20170106T103642Z
LAST-MODIFIED:20170106T103642Z
UID:3302-1483869600-1483876800@www.terryvirgo.org
SUMMARY:Christchurch Hailsham
DESCRIPTION:
URL:https://www.terryvirgo.org/calendar/christchurch-hailsham/
LOCATION:Christchurch Hailsham\, Ropemaker Centre\, Ropemaker Park\, South Road\,\, Hailsham\, East Sussex\, BN27 3GY\, United Kingdom
END:VEVENT
BEGIN:VEVENT
DTSTART;TZID=Europe/London:20161204T103000
DTEND;TZID=Europe/London:20161204T120000
DTSTAMP:20260423T085056
CREATED:20161115T114550Z
LAST-MODIFIED:20161115T114550Z
UID:3288-1480847400-1480852800@www.terryvirgo.org
SUMMARY:South Manchester Family Church
DESCRIPTION:
URL:https://www.terryvirgo.org/calendar/south-manchester-family-church/
LOCATION:South Manchester Family Church\, Parrs Wood High School\, Wilmslow Road\, East Didsbury\, Manchester\, M20 5PG
END:VEVENT
BEGIN:VEVENT
DTSTART;VALUE=DATE:20161121
DTEND;VALUE=DATE:20161128
DTSTAMP:20260423T085056
CREATED:20160211T120044Z
LAST-MODIFIED:20160211T120044Z
UID:3081-1479686400-1480291199@www.terryvirgo.org
SUMMARY:Bahrain
DESCRIPTION:
URL:https://www.terryvirgo.org/calendar/bahrain/
LOCATION:Bahrain\, Bahrain
END:VEVENT
BEGIN:VEVENT
DTSTART;VALUE=DATE:20161113
DTEND;VALUE=DATE:20161121
DTSTAMP:20260423T085056
CREATED:20160211T115903Z
LAST-MODIFIED:20160211T115903Z
UID:3079-1478995200-1479686399@www.terryvirgo.org
SUMMARY:Dubai
DESCRIPTION:
URL:https://www.terryvirgo.org/calendar/dubai-3/
LOCATION:Dubai\, United Arab Emirates
END:VEVENT
BEGIN:VEVENT
DTSTART;VALUE=DATE:20161107
DTEND;VALUE=DATE:20161113
DTSTAMP:20260423T085056
CREATED:20160211T115651Z
LAST-MODIFIED:20160211T115651Z
UID:3077-1478476800-1478995199@www.terryvirgo.org
SUMMARY:Doha
DESCRIPTION:
URL:https://www.terryvirgo.org/calendar/doha/
LOCATION:Doha\, Qatar
END:VEVENT
BEGIN:VEVENT
DTSTART;TZID=Europe/London:20161030T103000
DTEND;TZID=Europe/London:20161030T123000
DTSTAMP:20260423T085056
CREATED:20160929T102027Z
LAST-MODIFIED:20160929T102027Z
UID:3285-1477823400-1477830600@www.terryvirgo.org
SUMMARY:Preaching at Gateway Church Leeds
DESCRIPTION:
URL:https://www.terryvirgo.org/calendar/preaching-gateway-church-leeds/
LOCATION:Gateway Church Leeds\, St Mark's Church\, St Mark's Road\, Leeds\, LS2 9AF\, United Kingdom
CATEGORIES:Church Service,UK
END:VEVENT
END:VCALENDAR