BEGIN:VCALENDAR
VERSION:2.0
PRODID:-//Terry Virgo - ECPv6.15.20//NONSGML v1.0//EN
CALSCALE:GREGORIAN
METHOD:PUBLISH
X-WR-CALNAME:Terry Virgo
X-ORIGINAL-URL:https://www.terryvirgo.org
X-WR-CALDESC:Events for Terry Virgo
REFRESH-INTERVAL;VALUE=DURATION:PT1H
X-Robots-Tag:noindex
X-PUBLISHED-TTL:PT1H
BEGIN:VTIMEZONE
TZID:Europe/London
BEGIN:DAYLIGHT
TZOFFSETFROM:+0000
TZOFFSETTO:+0100
TZNAME:BST
DTSTART:20160327T010000
END:DAYLIGHT
BEGIN:STANDARD
TZOFFSETFROM:+0100
TZOFFSETTO:+0000
TZNAME:GMT
DTSTART:20161030T010000
END:STANDARD
BEGIN:DAYLIGHT
TZOFFSETFROM:+0000
TZOFFSETTO:+0100
TZNAME:BST
DTSTART:20170326T010000
END:DAYLIGHT
BEGIN:STANDARD
TZOFFSETFROM:+0100
TZOFFSETTO:+0000
TZNAME:GMT
DTSTART:20171029T010000
END:STANDARD
BEGIN:DAYLIGHT
TZOFFSETFROM:+0000
TZOFFSETTO:+0100
TZNAME:BST
DTSTART:20180325T010000
END:DAYLIGHT
BEGIN:STANDARD
TZOFFSETFROM:+0100
TZOFFSETTO:+0000
TZNAME:GMT
DTSTART:20181028T010000
END:STANDARD
BEGIN:DAYLIGHT
TZOFFSETFROM:+0000
TZOFFSETTO:+0100
TZNAME:BST
DTSTART:20190331T010000
END:DAYLIGHT
BEGIN:STANDARD
TZOFFSETFROM:+0100
TZOFFSETTO:+0000
TZNAME:GMT
DTSTART:20191027T010000
END:STANDARD
END:VTIMEZONE
BEGIN:VEVENT
DTSTART;TZID=Europe/London:20180128T100000
DTEND;TZID=Europe/London:20180128T120000
DTSTAMP:20260423T043217
CREATED:20171117T112718Z
LAST-MODIFIED:20171117T112718Z
UID:3420-1517133600-1517140800@www.terryvirgo.org
SUMMARY:New Life Church - Dorking
DESCRIPTION:
URL:https://www.terryvirgo.org/calendar/new-life-church-dorking/
LOCATION:New Life Church Dorking\, Dorking Halls\, Reigate Road\, Dorking\, Surrey\, RH4 1SG
END:VEVENT
BEGIN:VEVENT
DTSTART;VALUE=DATE:20180127
DTEND;VALUE=DATE:20180128
DTSTAMP:20260423T043217
CREATED:20171117T112130Z
LAST-MODIFIED:20171117T112130Z
UID:3419-1517011200-1517097599@www.terryvirgo.org
SUMMARY:Kings Church London - Leaders Event
DESCRIPTION:
URL:https://www.terryvirgo.org/calendar/kings-church-london-leaders-event/
END:VEVENT
BEGIN:VEVENT
DTSTART;VALUE=DATE:20180127
DTEND;VALUE=DATE:20180128
DTSTAMP:20260423T043217
CREATED:20170718T101744Z
LAST-MODIFIED:20170718T101744Z
UID:3406-1517011200-1517097599@www.terryvirgo.org
SUMMARY:Kings Church London
DESCRIPTION:
URL:https://www.terryvirgo.org/calendar/kings-church-london/
END:VEVENT
BEGIN:VEVENT
DTSTART;TZID=Europe/London:20180121T100000
DTEND;TZID=Europe/London:20180121T120000
DTSTAMP:20260423T043217
CREATED:20171117T112030Z
LAST-MODIFIED:20171117T112030Z
UID:3416-1516528800-1516536000@www.terryvirgo.org
SUMMARY:Dartford Community Church
DESCRIPTION:
URL:https://www.terryvirgo.org/calendar/dartford-community-church/
LOCATION:Dartford Community Church\, Dartford Grammer School for Boys\, Shepherds Lane\, Dartford\, DA1 2JZ
END:VEVENT
BEGIN:VEVENT
DTSTART;VALUE=DATE:20180119
DTEND;VALUE=DATE:20180121
DTSTAMP:20260423T043217
CREATED:20171124T114301Z
LAST-MODIFIED:20171124T114301Z
UID:3430-1516320000-1516492799@www.terryvirgo.org
SUMMARY:New Ground Elders and Wives's trip to Brussels
DESCRIPTION:
URL:https://www.terryvirgo.org/calendar/new-ground-elders-wivess-trip-brussels/
END:VEVENT
BEGIN:VEVENT
DTSTART;VALUE=DATE:20180117
DTEND;VALUE=DATE:20180119
DTSTAMP:20260423T043217
CREATED:20171117T110342Z
LAST-MODIFIED:20171117T110342Z
UID:3412-1516147200-1516319999@www.terryvirgo.org
SUMMARY:Newfrontiers Leaders Gathering
DESCRIPTION:
URL:https://www.terryvirgo.org/calendar/newfrontiers-leaders-gathering-3/
END:VEVENT
BEGIN:VEVENT
DTSTART;TZID=Europe/London:20180114T103000
DTEND;TZID=Europe/London:20180114T120000
DTSTAMP:20260423T043217
CREATED:20171117T111433Z
LAST-MODIFIED:20171117T111433Z
UID:3413-1515925800-1515931200@www.terryvirgo.org
SUMMARY:Hope Church\, West Wickham
DESCRIPTION:
URL:https://www.terryvirgo.org/calendar/hope-church-west-wickham/
LOCATION:Hope Church\, Mill Lane Centre\, Mill Lane\, Sevenoaks\, Kent\, TN14 5BU
END:VEVENT
BEGIN:VEVENT
DTSTART;VALUE=DATE:20180111
DTEND;VALUE=DATE:20180113
DTSTAMP:20260423T043217
CREATED:20171117T110151Z
LAST-MODIFIED:20171117T110151Z
UID:3411-1515628800-1515801599@www.terryvirgo.org
SUMMARY:National Leaders Gathering
DESCRIPTION:
URL:https://www.terryvirgo.org/calendar/national-leaders-gathering-2/
END:VEVENT
BEGIN:VEVENT
DTSTART;TZID=Europe/London:20171210T100000
DTEND;TZID=Europe/London:20171210T113000
DTSTAMP:20260423T043217
CREATED:20170711T134010Z
LAST-MODIFIED:20170711T134010Z
UID:3403-1512900000-1512905400@www.terryvirgo.org
SUMMARY:Hope Church - Sevenoaks
DESCRIPTION:
URL:https://www.terryvirgo.org/calendar/hope-church-sevenoaks/
LOCATION:Hope Church\, The Mill Lane Centre\, Mill Lane\, Sevenoaks\, Kent\, TN14 5BX
END:VEVENT
BEGIN:VEVENT
DTSTART;TZID=Europe/London:20171203T103000
DTEND;TZID=Europe/London:20171203T120000
DTSTAMP:20260423T043217
CREATED:20170516T112045Z
LAST-MODIFIED:20170516T112045Z
UID:3383-1512297000-1512302400@www.terryvirgo.org
SUMMARY:River Church Sutton
DESCRIPTION:
URL:https://www.terryvirgo.org/calendar/river-church-sutton/
LOCATION:River Church Sutton\, Highfield Hall\, 320 Carshalton Road\, Sutton\, http://riverchurchsutton.org/\, SM5 3QB
END:VEVENT
BEGIN:VEVENT
DTSTART;TZID=Europe/London:20171126T103000
DTEND;TZID=Europe/London:20171126T120000
DTSTAMP:20260423T043217
CREATED:20170516T110424Z
LAST-MODIFIED:20170516T110424Z
UID:3380-1511692200-1511697600@www.terryvirgo.org
SUMMARY:Kings Church Heathfield
DESCRIPTION:
URL:https://www.terryvirgo.org/calendar/kings-church-heathfield/
LOCATION:Kings Church Heathfield\, State Hall\, Station Road\,\, Heathfield\, East Sussex\, TN21 8LD
END:VEVENT
BEGIN:VEVENT
DTSTART;VALUE=DATE:20171113
DTEND;VALUE=DATE:20171119
DTSTAMP:20260423T043217
CREATED:20170516T105556Z
LAST-MODIFIED:20170516T105556Z
UID:3379-1510531200-1511049599@www.terryvirgo.org
SUMMARY:Dubai
DESCRIPTION:
URL:https://www.terryvirgo.org/calendar/dubai-4/
END:VEVENT
BEGIN:VEVENT
DTSTART;VALUE=DATE:20171106
DTEND;VALUE=DATE:20171114
DTSTAMP:20260423T043217
CREATED:20170516T105502Z
LAST-MODIFIED:20170516T105502Z
UID:3378-1509926400-1510617599@www.terryvirgo.org
SUMMARY:Doha
DESCRIPTION:
URL:https://www.terryvirgo.org/calendar/doha-2/
END:VEVENT
BEGIN:VEVENT
DTSTART;VALUE=DATE:20171020
DTEND;VALUE=DATE:20171107
DTSTAMP:20260423T043217
CREATED:20170516T105358Z
LAST-MODIFIED:20170516T105358Z
UID:3377-1508457600-1510012799@www.terryvirgo.org
SUMMARY:India
DESCRIPTION:
URL:https://www.terryvirgo.org/calendar/india/
END:VEVENT
BEGIN:VEVENT
DTSTART;VALUE=DATE:20171016
DTEND;VALUE=DATE:20171020
DTSTAMP:20260423T043217
CREATED:20161129T123731Z
LAST-MODIFIED:20161129T123731Z
UID:3297-1508112000-1508457599@www.terryvirgo.org
SUMMARY:Newfrontiers Global 2017
DESCRIPTION:
URL:https://www.terryvirgo.org/calendar/newfrontiers-global-2017/
END:VEVENT
BEGIN:VEVENT
DTSTART;VALUE=DATE:20171014
DTEND;VALUE=DATE:20171020
DTSTAMP:20260423T043217
CREATED:20170516T105317Z
LAST-MODIFIED:20170516T105317Z
UID:3376-1507939200-1508457599@www.terryvirgo.org
SUMMARY:Athens - Greece
DESCRIPTION:
URL:https://www.terryvirgo.org/calendar/athens-greece/
END:VEVENT
BEGIN:VEVENT
DTSTART;VALUE=DATE:20171001
DTEND;VALUE=DATE:20171002
DTSTAMP:20260423T043217
CREATED:20170523T144808Z
LAST-MODIFIED:20170523T144808Z
UID:3387-1506816000-1506902399@www.terryvirgo.org
SUMMARY:The Kings Church Mid-Sussex
DESCRIPTION:
URL:https://www.terryvirgo.org/calendar/kings-church-mid-sussex/
LOCATION:The Kings Church – Burgess Hill\, The King's Centre\, 33-35 Victoria Road\, Burgess Hill\, West Sussex\, RH15 9LR
END:VEVENT
BEGIN:VEVENT
DTSTART;VALUE=DATE:20170929
DTEND;VALUE=DATE:20171001
DTSTAMP:20260423T043217
CREATED:20170516T104618Z
LAST-MODIFIED:20170516T104618Z
UID:3375-1506643200-1506815999@www.terryvirgo.org
SUMMARY:Hedge End
DESCRIPTION:
URL:https://www.terryvirgo.org/calendar/hedge-end/
END:VEVENT
BEGIN:VEVENT
DTSTART;VALUE=DATE:20170922
DTEND;VALUE=DATE:20170926
DTSTAMP:20260423T043217
CREATED:20170516T104407Z
LAST-MODIFIED:20170516T104407Z
UID:3374-1506038400-1506383999@www.terryvirgo.org
SUMMARY:Bulgaria
DESCRIPTION:
URL:https://www.terryvirgo.org/calendar/bulgaria/
END:VEVENT
BEGIN:VEVENT
DTSTART;VALUE=DATE:20170914
DTEND;VALUE=DATE:20170920
DTSTAMP:20260423T043217
CREATED:20170516T103959Z
LAST-MODIFIED:20170516T103959Z
UID:3373-1505347200-1505865599@www.terryvirgo.org
SUMMARY:Paris
DESCRIPTION:
URL:https://www.terryvirgo.org/calendar/paris/
END:VEVENT
BEGIN:VEVENT
DTSTART;VALUE=DATE:20170908
DTEND;VALUE=DATE:20170912
DTSTAMP:20260423T043217
CREATED:20170516T103733Z
LAST-MODIFIED:20170516T103733Z
UID:3372-1504828800-1505174399@www.terryvirgo.org
SUMMARY:Regions Beyond Weekend
DESCRIPTION:
URL:https://www.terryvirgo.org/calendar/regions-beyond-weekend/
END:VEVENT
BEGIN:VEVENT
DTSTART;VALUE=DATE:20170901
DTEND;VALUE=DATE:20170904
DTSTAMP:20260423T043217
CREATED:20170516T103338Z
LAST-MODIFIED:20170516T103338Z
UID:3371-1504224000-1504483199@www.terryvirgo.org
SUMMARY:Plymouth
DESCRIPTION:
URL:https://www.terryvirgo.org/calendar/plymouth/
END:VEVENT
BEGIN:VEVENT
DTSTART;VALUE=DATE:20170824
DTEND;VALUE=DATE:20170829
DTSTAMP:20260423T043217
CREATED:20170516T103028Z
LAST-MODIFIED:20170516T103028Z
UID:3368-1503532800-1503964799@www.terryvirgo.org
SUMMARY:Westpoint Commission Bible Weekend
DESCRIPTION:
URL:https://www.terryvirgo.org/calendar/westpoint-commission-bible-weekend/
LOCATION:Westpoint Commission Bible Weekend
END:VEVENT
BEGIN:VEVENT
DTSTART;VALUE=DATE:20170802
DTEND;VALUE=DATE:20170805
DTSTAMP:20260423T043217
CREATED:20170516T102745Z
LAST-MODIFIED:20170530T102111Z
UID:3365-1501632000-1501891199@www.terryvirgo.org
SUMMARY:Newday
DESCRIPTION:
URL:https://www.terryvirgo.org/calendar/preaching-at-newday/
LOCATION:Newday\, Norfolk Showground\, Near Norwich
END:VEVENT
BEGIN:VEVENT
DTSTART;TZID=Europe/London:20170724T080000
DTEND;TZID=Europe/London:20170728T170000
DTSTAMP:20260423T043217
CREATED:20170609T124337Z
LAST-MODIFIED:20170609T124337Z
UID:3401-1500883200-1501261200@www.terryvirgo.org
SUMMARY:USA Trip - St Louis
DESCRIPTION:
URL:https://www.terryvirgo.org/calendar/usa-trip-st-louis/
END:VEVENT
BEGIN:VEVENT
DTSTART;TZID=Europe/London:20170721T080000
DTEND;TZID=Europe/London:20170723T170000
DTSTAMP:20260423T043217
CREATED:20170609T124256Z
LAST-MODIFIED:20170609T124256Z
UID:3400-1500624000-1500829200@www.terryvirgo.org
SUMMARY:USA Trip - Boston
DESCRIPTION:
URL:https://www.terryvirgo.org/calendar/usa-trip-boston/
END:VEVENT
BEGIN:VEVENT
DTSTART;TZID=Europe/London:20170713T080000
DTEND;TZID=Europe/London:20170720T170000
DTSTAMP:20260423T043217
CREATED:20170609T124211Z
LAST-MODIFIED:20170609T124211Z
UID:3399-1499932800-1500570000@www.terryvirgo.org
SUMMARY:USA Trip - Chicago O'Hare
DESCRIPTION:
URL:https://www.terryvirgo.org/calendar/usa-trip-chicago-ohare/
END:VEVENT
BEGIN:VEVENT
DTSTART;VALUE=DATE:20170706
DTEND;VALUE=DATE:20170713
DTSTAMP:20260423T043217
CREATED:20170516T102352Z
LAST-MODIFIED:20170609T123410Z
UID:3364-1499299200-1499903999@www.terryvirgo.org
SUMMARY:USA Trip - Washington
DESCRIPTION:
URL:https://www.terryvirgo.org/calendar/usa-trip/
END:VEVENT
BEGIN:VEVENT
DTSTART;VALUE=DATE:20170705
DTEND;VALUE=DATE:20170706
DTSTAMP:20260423T043217
CREATED:20170516T102135Z
LAST-MODIFIED:20170516T102135Z
UID:3362-1499212800-1499299199@www.terryvirgo.org
SUMMARY:Prayer Day at Westminster Chapel
DESCRIPTION:
URL:https://www.terryvirgo.org/calendar/prayer-day-westminster-chapel/
LOCATION:Westminster Chapel
END:VEVENT
BEGIN:VEVENT
DTSTART;TZID=Europe/London:20170702T100000
DTEND;TZID=Europe/London:20170702T120000
DTSTAMP:20260423T043217
CREATED:20170516T101832Z
LAST-MODIFIED:20170516T101832Z
UID:3359-1498989600-1498996800@www.terryvirgo.org
SUMMARY:Kings Church Uckfield
DESCRIPTION:
URL:https://www.terryvirgo.org/calendar/kings-church-uckfield/
LOCATION:Kings Church Uckfield\, Civic Centre\, Bellfarm Lane\,\, Uckfield\, East Sussex\, TN22 1AE
END:VEVENT
END:VCALENDAR