BEGIN:VCALENDAR
VERSION:2.0
PRODID:-//Terry Virgo - ECPv6.15.20//NONSGML v1.0//EN
CALSCALE:GREGORIAN
METHOD:PUBLISH
X-ORIGINAL-URL:https://www.terryvirgo.org
X-WR-CALDESC:Events for Terry Virgo
REFRESH-INTERVAL;VALUE=DURATION:PT1H
X-Robots-Tag:noindex
X-PUBLISHED-TTL:PT1H
BEGIN:VTIMEZONE
TZID:Europe/London
BEGIN:DAYLIGHT
TZOFFSETFROM:+0000
TZOFFSETTO:+0100
TZNAME:BST
DTSTART:20170326T010000
END:DAYLIGHT
BEGIN:STANDARD
TZOFFSETFROM:+0100
TZOFFSETTO:+0000
TZNAME:GMT
DTSTART:20171029T010000
END:STANDARD
BEGIN:DAYLIGHT
TZOFFSETFROM:+0000
TZOFFSETTO:+0100
TZNAME:BST
DTSTART:20180325T010000
END:DAYLIGHT
BEGIN:STANDARD
TZOFFSETFROM:+0100
TZOFFSETTO:+0000
TZNAME:GMT
DTSTART:20181028T010000
END:STANDARD
BEGIN:DAYLIGHT
TZOFFSETFROM:+0000
TZOFFSETTO:+0100
TZNAME:BST
DTSTART:20190331T010000
END:DAYLIGHT
BEGIN:STANDARD
TZOFFSETFROM:+0100
TZOFFSETTO:+0000
TZNAME:GMT
DTSTART:20191027T010000
END:STANDARD
END:VTIMEZONE
BEGIN:VEVENT
DTSTART;TZID=Europe/London:20181202T100000
DTEND;TZID=Europe/London:20181202T120000
DTSTAMP:20260422T162514
CREATED:20181102T091940Z
LAST-MODIFIED:20181102T091940Z
UID:3606-1543744800-1543752000@www.terryvirgo.org
SUMMARY:Kings Church Seaford
DESCRIPTION:
URL:https://www.terryvirgo.org/calendar/kings-church-seaford/
LOCATION:Kings Church – Seaford\, Seaford Head School\, Arundel Road\, Seaford\, East Sussex\, BN25 4LX
END:VEVENT
END:VCALENDAR