BEGIN:VCALENDAR
VERSION:2.0
PRODID:-//Terry Virgo - ECPv6.15.20//NONSGML v1.0//EN
CALSCALE:GREGORIAN
METHOD:PUBLISH
X-ORIGINAL-URL:https://www.terryvirgo.org
X-WR-CALDESC:Events for Terry Virgo
REFRESH-INTERVAL;VALUE=DURATION:PT1H
X-Robots-Tag:noindex
X-PUBLISHED-TTL:PT1H
BEGIN:VTIMEZONE
TZID:Europe/London
BEGIN:DAYLIGHT
TZOFFSETFROM:+0000
TZOFFSETTO:+0100
TZNAME:BST
DTSTART:20170326T010000
END:DAYLIGHT
BEGIN:STANDARD
TZOFFSETFROM:+0100
TZOFFSETTO:+0000
TZNAME:GMT
DTSTART:20171029T010000
END:STANDARD
BEGIN:DAYLIGHT
TZOFFSETFROM:+0000
TZOFFSETTO:+0100
TZNAME:BST
DTSTART:20180325T010000
END:DAYLIGHT
BEGIN:STANDARD
TZOFFSETFROM:+0100
TZOFFSETTO:+0000
TZNAME:GMT
DTSTART:20181028T010000
END:STANDARD
BEGIN:DAYLIGHT
TZOFFSETFROM:+0000
TZOFFSETTO:+0100
TZNAME:BST
DTSTART:20190331T010000
END:DAYLIGHT
BEGIN:STANDARD
TZOFFSETFROM:+0100
TZOFFSETTO:+0000
TZNAME:GMT
DTSTART:20191027T010000
END:STANDARD
END:VTIMEZONE
BEGIN:VEVENT
DTSTART;TZID=Europe/London:20181012T100000
DTEND;TZID=Europe/London:20181012T120000
DTSTAMP:20260423T013458
CREATED:20181012T093327Z
LAST-MODIFIED:20181012T093327Z
UID:3602-1539338400-1539345600@www.terryvirgo.org
SUMMARY:Hope Church\, Sevenoaks
DESCRIPTION:Terry will be preaching at the 10am service.
URL:https://www.terryvirgo.org/calendar/hope-church-sevenoaks-2/
LOCATION:Hope Church\, Mill Lane Centre\, Mill Lane\, Sevenoaks\, Kent\, TN14 5BU
END:VEVENT
END:VCALENDAR